BEGIN:VCALENDAR
VERSION:2.0
PRODID:-//ShowCase Magazine Washington - ECPv6.15.20//NONSGML v1.0//EN
CALSCALE:GREGORIAN
METHOD:PUBLISH
X-WR-CALNAME:ShowCase Magazine Washington
X-ORIGINAL-URL:https://showcasemedialive.com
X-WR-CALDESC:Events for ShowCase Magazine Washington
REFRESH-INTERVAL;VALUE=DURATION:PT1H
X-Robots-Tag:noindex
X-PUBLISHED-TTL:PT1H
BEGIN:VTIMEZONE
TZID:America/Vancouver
BEGIN:DAYLIGHT
TZOFFSETFROM:-0800
TZOFFSETTO:-0700
TZNAME:PDT
DTSTART:20250309T100000
END:DAYLIGHT
BEGIN:STANDARD
TZOFFSETFROM:-0700
TZOFFSETTO:-0800
TZNAME:PST
DTSTART:20251102T090000
END:STANDARD
BEGIN:DAYLIGHT
TZOFFSETFROM:-0800
TZOFFSETTO:-0700
TZNAME:PDT
DTSTART:20260308T100000
END:DAYLIGHT
BEGIN:STANDARD
TZOFFSETFROM:-0700
TZOFFSETTO:-0800
TZNAME:PST
DTSTART:20261101T090000
END:STANDARD
BEGIN:DAYLIGHT
TZOFFSETFROM:-0800
TZOFFSETTO:-0700
TZNAME:PDT
DTSTART:20270314T100000
END:DAYLIGHT
BEGIN:STANDARD
TZOFFSETFROM:-0700
TZOFFSETTO:-0800
TZNAME:PST
DTSTART:20271107T090000
END:STANDARD
END:VTIMEZONE
BEGIN:VEVENT
DTSTART;VALUE=DATE:20260420
DTEND;VALUE=DATE:20260421
DTSTAMP:20260422T015021
CREATED:20250721T234326Z
LAST-MODIFIED:20250805T011744Z
UID:10009033-1776643200-1776729599@showcasemedialive.com
SUMMARY:Childhood's End Gallery presents "Earth / Sea"
DESCRIPTION:Childhood’s End Gallery presents “Earth / Sea”\n\nFeaturing new paintings by Jon Bradham\, Chuck Gumpert\, and Mary McCann; pastels by Deborah Henderson; raku pottery by Dave and Boni Deal; and metal and glass sculpture by Eileen Lagasse. Explore the gestural ever-changing landscapes through this vibrant group exhibition.\n\nAug 1 – Sept 14th\nChildhood’s End Gallery\nchildhoods-end-gallery.com
URL:https://showcasemedialive.com/calendar-event/childhoods-end-gallery-presents-earth-sea/2026-04-20/
CATEGORIES:Arts and Entertainment,Community
END:VEVENT
BEGIN:VEVENT
DTSTART;VALUE=DATE:20260420
DTEND;VALUE=DATE:20260421
DTSTAMP:20260422T015021
CREATED:20250801T170918Z
LAST-MODIFIED:20250907T133025Z
UID:10009434-1776643200-1776729599@showcasemedialive.com
SUMMARY:By the Furnace: Hot Shop Experience Workshops
DESCRIPTION:By the Furnace: Hot Shop Experience Workshops\nHere is your chance to work on the Hot Shop floor. Assisted by Hilltop Artists\, these workshops feature a variety of objects\, such as flowers\, birds\, ornaments\, paperweights\, and more (each workshop date will feature a specific object). As the gaffer\, you will be able to choose colors\, block and shape the glass\, and add your own twist to the work of art.\nUpcoming workshop dates:\nAugust 16 & 17 – Fish
URL:https://showcasemedialive.com/calendar-event/by-the-furnace-hot-shop-experience-workshops-2/2026-04-20/
CATEGORIES:Arts and Entertainment,Community
ATTACH;FMTTYPE=image/jpeg:https://showcasemedialive.com/wp-content/uploads/2025/08/094406e0-a6ed-f927-7604-2eebb7875145.jpg
END:VEVENT
BEGIN:VEVENT
DTSTART;VALUE=DATE:20260420
DTEND;VALUE=DATE:20260421
DTSTAMP:20260422T015021
CREATED:20260106T004110Z
LAST-MODIFIED:20260209T022449Z
UID:10011214-1776643200-1776729599@showcasemedialive.com
SUMMARY:Olympia Arts + Heritage Alliance Exhibition: Light in the Dark
DESCRIPTION:Olympia Arts + Heritage Alliance Exhibition: Light in the Dark \nNow Through April 14th \nOlyAHA Gallery\, Olympia
URL:https://showcasemedialive.com/calendar-event/olympia-arts-heritage-alliance-exhibition-light-in-the-dark/2026-04-20/
CATEGORIES:Arts and Entertainment,education
END:VEVENT
END:VCALENDAR