BEGIN:VCALENDAR
VERSION:2.0
PRODID:-//ShowCase Magazine Washington - ECPv6.15.20//NONSGML v1.0//EN
CALSCALE:GREGORIAN
METHOD:PUBLISH
X-WR-CALNAME:ShowCase Magazine Washington
X-ORIGINAL-URL:https://showcasemedialive.com
X-WR-CALDESC:Events for ShowCase Magazine Washington
REFRESH-INTERVAL;VALUE=DURATION:PT1H
X-Robots-Tag:noindex
X-PUBLISHED-TTL:PT1H
BEGIN:VTIMEZONE
TZID:America/Vancouver
BEGIN:DAYLIGHT
TZOFFSETFROM:-0800
TZOFFSETTO:-0700
TZNAME:PDT
DTSTART:20250309T100000
END:DAYLIGHT
BEGIN:STANDARD
TZOFFSETFROM:-0700
TZOFFSETTO:-0800
TZNAME:PST
DTSTART:20251102T090000
END:STANDARD
BEGIN:DAYLIGHT
TZOFFSETFROM:-0800
TZOFFSETTO:-0700
TZNAME:PDT
DTSTART:20260308T100000
END:DAYLIGHT
BEGIN:STANDARD
TZOFFSETFROM:-0700
TZOFFSETTO:-0800
TZNAME:PST
DTSTART:20261101T090000
END:STANDARD
BEGIN:DAYLIGHT
TZOFFSETFROM:-0800
TZOFFSETTO:-0700
TZNAME:PDT
DTSTART:20270314T100000
END:DAYLIGHT
BEGIN:STANDARD
TZOFFSETFROM:-0700
TZOFFSETTO:-0800
TZNAME:PST
DTSTART:20271107T090000
END:STANDARD
END:VTIMEZONE
BEGIN:VEVENT
DTSTART;VALUE=DATE:20260424
DTEND;VALUE=DATE:20260425
DTSTAMP:20260424T015758
CREATED:20250303T194349Z
LAST-MODIFIED:20250303T194823Z
UID:10006498-1776988800-1777075199@showcasemedialive.com
SUMMARY:Centralia Farmers Market 
DESCRIPTION:Centralia Farmers Market  \nMay-September\, Fridays 11am-4pm  \nPine Street Plaza\, Centralia centraliafarmersmarket.org  \n  \n 
URL:https://showcasemedialive.com/calendar-event/centralia-farmers-market-3/2026-04-24/
END:VEVENT
BEGIN:VEVENT
DTSTART;VALUE=DATE:20260424
DTEND;VALUE=DATE:20260425
DTSTAMP:20260424T015758
CREATED:20250303T203933Z
LAST-MODIFIED:20250408T004256Z
UID:10006639-1776988800-1777075199@showcasemedialive.com
SUMMARY:Sensory Inclusive Story & Play Time with Timberland Regional Library
DESCRIPTION:Sensory Inclusive Story & Play Time with Timberland Regional Library\nStories\, music\, movement\, play\, and community building in a neurodiversity-affirming environment for children of all ages and abilities and their caregivers. \n\nFree to attend\nSoft lighting\nLimited distractions\nSmall group setting\nVisual Schedule\nSensory regulation aids\nwandering and flapping encouraged!\n\n415 Tumwater Blvd SW\nTumwater\, WA 98501
URL:https://showcasemedialive.com/calendar-event/sensory-inclusive-story-play-time-with-timberland-regional-library/2026-04-24/
CATEGORIES:Arts and Entertainment,Community,Family events
END:VEVENT
BEGIN:VEVENT
DTSTART;VALUE=DATE:20260424
DTEND;VALUE=DATE:20260425
DTSTAMP:20260424T015758
CREATED:20250303T205259Z
LAST-MODIFIED:20250408T004106Z
UID:10006940-1776988800-1777075199@showcasemedialive.com
SUMMARY:Boston Harbor Marina Friday Nights
DESCRIPTION:FRIDAY NIGHT at THE HARBOR  (Memorial Day through Labor Day) \nLive music and beer – it doesn’t get much better! We host local breweries and local bands every Friday evening in the summer\, Memorial Day through Labor Day.  Check out our Facebook page for details.  We hope to see you there! \nFor more information go to https://www.bostonharbormarina.com/pages/events
URL:https://showcasemedialive.com/calendar-event/boston-harbor-marina-friday-nights/2026-04-24/
CATEGORIES:Arts and Entertainment,Community
END:VEVENT
BEGIN:VEVENT
DTSTART;VALUE=DATE:20260424
DTEND;VALUE=DATE:20260425
DTSTAMP:20260424T015758
CREATED:20250801T170918Z
LAST-MODIFIED:20250907T133025Z
UID:10009438-1776988800-1777075199@showcasemedialive.com
SUMMARY:By the Furnace: Hot Shop Experience Workshops
DESCRIPTION:By the Furnace: Hot Shop Experience Workshops\nHere is your chance to work on the Hot Shop floor. Assisted by Hilltop Artists\, these workshops feature a variety of objects\, such as flowers\, birds\, ornaments\, paperweights\, and more (each workshop date will feature a specific object). As the gaffer\, you will be able to choose colors\, block and shape the glass\, and add your own twist to the work of art.\nUpcoming workshop dates:\nAugust 16 & 17 – Fish
URL:https://showcasemedialive.com/calendar-event/by-the-furnace-hot-shop-experience-workshops-2/2026-04-24/
CATEGORIES:Arts and Entertainment,Community
ATTACH;FMTTYPE=image/jpeg:https://showcasemedialive.com/wp-content/uploads/2025/08/094406e0-a6ed-f927-7604-2eebb7875145.jpg
END:VEVENT
BEGIN:VEVENT
DTSTART;VALUE=DATE:20260424
DTEND;VALUE=DATE:20260425
DTSTAMP:20260424T015758
CREATED:20250907T133619Z
LAST-MODIFIED:20250907T133619Z
UID:10009663-1776988800-1777075199@showcasemedialive.com
SUMMARY:MATILDA
DESCRIPTION:Tacoma Little Theatre Presents Matilda \n \nDecember 5-28\, 2025 \nInspired by Roald Dahl’s genius\, Matilda The Musical is a Tony Award-winning masterpiece celebrating childhood rebellion\, imagination\, and a girl’s fight for a better life. Matilda\, an extraordinary young girl with intelligence\, wit\, and psychokinetic powers\, is unloved by her cruel parents but admired by her kind teacher\, Miss Honey. However\, the tyrannical headmistress\, Miss Trunchbull\, rules the school with an iron fist—until Matilda’s courage and cleverness inspire her classmates to stand up for themselves. Filled with wit\, whimsy\, and unforgettable music\, this musical is a joyful celebration of empowerment. With a heartwarming message\, Matilda delights audiences of all ages. \nwww.tacomalittletheatre.com\, calling 253-272-2281\,
URL:https://showcasemedialive.com/calendar-event/matilda/2026-04-24/
CATEGORIES:Arts and Entertainment,Community,Family events
END:VEVENT
BEGIN:VEVENT
DTSTART;VALUE=DATE:20260424
DTEND;VALUE=DATE:20260425
DTSTAMP:20260424T015758
CREATED:20250908T235818Z
LAST-MODIFIED:20260224T225525Z
UID:10009922-1776988800-1777075199@showcasemedialive.com
SUMMARY:The Mountaintop at Tacoma Little Theatre
DESCRIPTION:The Mountaintop\n April 24-May 10\, 2026\nFridays & Saturdays 7:30 pm | Sundays 2pm\nTacoma Little Theater
URL:https://showcasemedialive.com/calendar-event/the-mountaintop/2026-04-24/1/
CATEGORIES:Arts and Entertainment,Community
ATTACH;FMTTYPE=image/jpeg:https://showcasemedialive.com/wp-content/uploads/2025/09/TLT-The-Mountaintop.jpg
END:VEVENT
BEGIN:VEVENT
DTSTART;VALUE=DATE:20260424
DTEND;VALUE=DATE:20260425
DTSTAMP:20260424T015758
CREATED:20260211T184537Z
LAST-MODIFIED:20260319T040421Z
UID:10011472-1776988800-1777075199@showcasemedialive.com
SUMMARY:The Foreigner
DESCRIPTION:The Foreigner \nMarch 6th – 29th – Times Vary \nHarlequin Productions
URL:https://showcasemedialive.com/calendar-event/the-foreigner-2/2026-04-24/
CATEGORIES:Arts and Entertainment,Community
END:VEVENT
BEGIN:VEVENT
DTSTART;VALUE=DATE:20260424
DTEND;VALUE=DATE:20260425
DTSTAMP:20260424T015758
CREATED:20260310T181058Z
LAST-MODIFIED:20260310T181058Z
UID:10011298-1776988800-1777075199@showcasemedialive.com
SUMMARY:Parents' Night Out - Art Walk
DESCRIPTION:Parents’ Night Out – Art Walk \nApril 24 from 5:30pm – 8:30pm \nHands On Children’s Museum \nAges 3-10
URL:https://showcasemedialive.com/calendar-event/parents-night-out-art-walk/
CATEGORIES:Arts and Entertainment,Community,Family events
END:VEVENT
BEGIN:VEVENT
DTSTART;VALUE=DATE:20260424
DTEND;VALUE=DATE:20260425
DTSTAMP:20260424T015758
CREATED:20260317T233624Z
LAST-MODIFIED:20260317T233624Z
UID:10011309-1776988800-1777075199@showcasemedialive.com
SUMMARY:Light & Truth Gala Dinner Benefit
DESCRIPTION:Light & Truth Gala Dinner Benefit \nApril 24 @ 5pm \nPope John Paul ll High School
URL:https://showcasemedialive.com/calendar-event/light-truth-gala-dinner-benefit/
CATEGORIES:Community,fundraiser
END:VEVENT
BEGIN:VEVENT
DTSTART;VALUE=DATE:20260424
DTEND;VALUE=DATE:20260425
DTSTAMP:20260424T015758
CREATED:20260328T210913Z
LAST-MODIFIED:20260328T210913Z
UID:10011570-1776988800-1777075199@showcasemedialive.com
SUMMARY:Gig Harbor Paddlers Cup
DESCRIPTION:Gig Harbor Paddlers Cup \n\nApril 25 @ 7:30 am – April 26 @ 3:30 pm \n\nThe Gig Harbor Paddlers Cup is the premier event for Pacific Northwest paddle enthusiasts of all ages and skill levels.  Organized by the Gig Harbor Canoe and Kayak Racing Team\, this annual community event features paddle racing for kayaks\, canoes\, stand up and prone paddleboards\, outriggers\, para-canoes\, and dragon boats. \nRace proceeds benefit the Gig Harbor Canoe and Kayak Racing Team\, a 501(c)(3) nonprofit community organization committed to introducing youth to the sport of Olympic Sprint Canoe and Kayak Racing\, and the Gig Harbor Dragons Boat Club\, a 501(c)3 nonprofit community organization that fosters a supportive\, inclusive community focused on competition\, sportsmanship\, and personal growth\, empowering athletes to reach their full potential both on and off the water. \nThirteenth Annual Paddlers Cup – Visit Gig Harbor\, Washington
URL:https://showcasemedialive.com/calendar-event/gig-harbor-paddlers-cup/2026-04-24/
CATEGORIES:Community,Family events,Health
ATTACH;FMTTYPE=image/webp:https://showcasemedialive.com/wp-content/uploads/2026/03/cropped-gig_cup_logo_black1.webp
END:VEVENT
BEGIN:VEVENT
DTSTART;VALUE=DATE:20260424
DTEND;VALUE=DATE:20260426
DTSTAMP:20260424T015758
CREATED:20260128T021508Z
LAST-MODIFIED:20260128T021508Z
UID:10011195-1776988800-1777161599@showcasemedialive.com
SUMMARY:Olympia Arts Walk
DESCRIPTION:Olympia Arts Walk \nApril 24 – 25 \nDowntown Olympia \nArtswalkoly.com
URL:https://showcasemedialive.com/calendar-event/olympia-arts-walk-2/
CATEGORIES:Arts and Entertainment,Community
END:VEVENT
BEGIN:VEVENT
DTSTART;VALUE=DATE:20260424
DTEND;VALUE=DATE:20260425
DTSTAMP:20260424T015758
CREATED:20250908T235818Z
LAST-MODIFIED:20260224T225525Z
UID:10011279-1777017600-1777050000@showcasemedialive.com
SUMMARY:The Mountaintop at Tacoma Little Theatre
DESCRIPTION:The Mountaintop\n April 24-May 10\, 2026\nFridays & Saturdays 7:30 pm | Sundays 2pm\nTacoma Little Theater
URL:https://showcasemedialive.com/calendar-event/the-mountaintop/2026-04-24/2/
CATEGORIES:Arts and Entertainment,Community
ATTACH;FMTTYPE=image/jpeg:https://showcasemedialive.com/wp-content/uploads/2025/09/TLT-The-Mountaintop.jpg
END:VEVENT
END:VCALENDAR