BEGIN:VCALENDAR
VERSION:2.0
PRODID:-//ShowCase Magazine Washington - ECPv6.15.20//NONSGML v1.0//EN
CALSCALE:GREGORIAN
METHOD:PUBLISH
X-WR-CALNAME:ShowCase Magazine Washington
X-ORIGINAL-URL:https://showcasemedialive.com
X-WR-CALDESC:Events for ShowCase Magazine Washington
REFRESH-INTERVAL;VALUE=DURATION:PT1H
X-Robots-Tag:noindex
X-PUBLISHED-TTL:PT1H
BEGIN:VTIMEZONE
TZID:America/Vancouver
BEGIN:DAYLIGHT
TZOFFSETFROM:-0800
TZOFFSETTO:-0700
TZNAME:PDT
DTSTART:20240310T100000
END:DAYLIGHT
BEGIN:STANDARD
TZOFFSETFROM:-0700
TZOFFSETTO:-0800
TZNAME:PST
DTSTART:20241103T090000
END:STANDARD
BEGIN:DAYLIGHT
TZOFFSETFROM:-0800
TZOFFSETTO:-0700
TZNAME:PDT
DTSTART:20250309T100000
END:DAYLIGHT
BEGIN:STANDARD
TZOFFSETFROM:-0700
TZOFFSETTO:-0800
TZNAME:PST
DTSTART:20251102T090000
END:STANDARD
BEGIN:DAYLIGHT
TZOFFSETFROM:-0800
TZOFFSETTO:-0700
TZNAME:PDT
DTSTART:20260308T100000
END:DAYLIGHT
BEGIN:STANDARD
TZOFFSETFROM:-0700
TZOFFSETTO:-0800
TZNAME:PST
DTSTART:20261101T090000
END:STANDARD
END:VTIMEZONE
BEGIN:VEVENT
DTSTART;VALUE=DATE:20251011
DTEND;VALUE=DATE:20251012
DTSTAMP:20260421T093326
CREATED:20250614T204759Z
LAST-MODIFIED:20250614T204849Z
UID:10007214-1760140800-1760227199@showcasemedialive.com
SUMMARY:2025 Walk to End Alzheimer's - Pierce County
DESCRIPTION:2025 ng – Pierce County\nSaturday\, October 11th\, 2025\nDune Peninsula at Point Defiance Park\n5361 Yacht Club Rd\, Tacoma \n2025 Walk to End Alzheimer’s – Pierce County\, WA | Walk to End Alzheimer’s
URL:https://showcasemedialive.com/calendar-event/2025-walk-to-end-alzheimers-pierce-county/
CATEGORIES:Community,senior activities,wellness
END:VEVENT
BEGIN:VEVENT
DTSTART;VALUE=DATE:20251007
DTEND;VALUE=DATE:20251008
DTSTAMP:20260421T093326
CREATED:20250924T163255Z
LAST-MODIFIED:20250924T163255Z
UID:10010284-1759795200-1759881599@showcasemedialive.com
SUMMARY:Understanding the Stages of Dementia Workshop
DESCRIPTION:Understanding the Stages of Dementia Workshop Presented by Hampton Memory Care Sue Johnson \nOctober 7th\, 10-11am \nOlympic West Senior Living \n929 Trosper Rd SW \nTumwater \n  \n 
URL:https://showcasemedialive.com/calendar-event/understanding-the-stages-of-dementia-workshop/
CATEGORIES:Community,senior activities
END:VEVENT
BEGIN:VEVENT
DTSTART;VALUE=DATE:20251006
DTEND;VALUE=DATE:20251007
DTSTAMP:20260421T093326
CREATED:20241030T214159Z
LAST-MODIFIED:20241030T215027Z
UID:10002645-1759708800-1759795199@showcasemedialive.com
SUMMARY:Senior Services Water Color Group
DESCRIPTION:Senior Services Water Color Group \nLacey with Micheal \nMondays 1pm-3pm \nOpen to anyone who wants to learn watercolor. Bring your own supplies. \nActivities | Senior Services for South Sound
URL:https://showcasemedialive.com/calendar-event/senior-services-water-color-group/2025-10-06/
CATEGORIES:Arts and Entertainment,senior activities
END:VEVENT
BEGIN:VEVENT
DTSTART;VALUE=DATE:20251004
DTEND;VALUE=DATE:20251005
DTSTAMP:20260421T093326
CREATED:20250614T205037Z
LAST-MODIFIED:20250614T205037Z
UID:10007215-1759536000-1759622399@showcasemedialive.com
SUMMARY:Walk to End Alzheimer's - Thurston County
DESCRIPTION:Walk to End Alzheimer’s – Thurston County\nOctober 4\, 10 am \nHeritage Park\, Capitol Lake
URL:https://showcasemedialive.com/calendar-event/walk-to-end-alzheimers-thurston-county-2/
CATEGORIES:fundraiser,senior activities,wellness
END:VEVENT
BEGIN:VEVENT
DTSTART;VALUE=DATE:20251004
DTEND;VALUE=DATE:20251005
DTSTAMP:20260421T093326
CREATED:20250608T190229Z
LAST-MODIFIED:20250608T190229Z
UID:10007205-1759536000-1759622399@showcasemedialive.com
SUMMARY:Walk to End Alzheimer's Thurston County
DESCRIPTION:Walk to End Alzheimers \nOctober 4th\, 10am \nHeritage Park\, Capital Lake \nact.alt.org
URL:https://showcasemedialive.com/calendar-event/walk-to-end-alzheimers-thurston-county/
CATEGORIES:senior activities
END:VEVENT
BEGIN:VEVENT
DTSTART;VALUE=DATE:20250929
DTEND;VALUE=DATE:20250930
DTSTAMP:20260421T093326
CREATED:20241030T214159Z
LAST-MODIFIED:20241030T215027Z
UID:10002644-1759104000-1759190399@showcasemedialive.com
SUMMARY:Senior Services Water Color Group
DESCRIPTION:Senior Services Water Color Group \nLacey with Micheal \nMondays 1pm-3pm \nOpen to anyone who wants to learn watercolor. Bring your own supplies. \nActivities | Senior Services for South Sound
URL:https://showcasemedialive.com/calendar-event/senior-services-water-color-group/2025-09-29/
CATEGORIES:Arts and Entertainment,senior activities
END:VEVENT
BEGIN:VEVENT
DTSTART;VALUE=DATE:20250925
DTEND;VALUE=DATE:20250926
DTSTAMP:20260421T093326
CREATED:20250909T003920Z
LAST-MODIFIED:20250909T003920Z
UID:10010257-1758758400-1758844799@showcasemedialive.com
SUMMARY:More Than a Quilt Show – A Celebration of Fiber Arts
DESCRIPTION:More Than a Quilt Show – A Celebration of Fiber Arts\nSeptember 25 | 10:00 AM – 4:00 PM\nEliseo’s Multipurpose Room\, 1301 N Highlands Pkwy\, Tacoma\, WA 98406\nDiscover the artistry\, color\, and craftsmanship of More Than a Quilt Show\, presented by Common Threads at eliseo’s.
URL:https://showcasemedialive.com/calendar-event/more-than-a-quilt-show-a-celebration-of-fiber-arts/
CATEGORIES:Arts and Entertainment,Community,senior activities,shopping
END:VEVENT
BEGIN:VEVENT
DTSTART;VALUE=DATE:20250922
DTEND;VALUE=DATE:20250923
DTSTAMP:20260421T093326
CREATED:20241030T214159Z
LAST-MODIFIED:20241030T215027Z
UID:10002643-1758499200-1758585599@showcasemedialive.com
SUMMARY:Senior Services Water Color Group
DESCRIPTION:Senior Services Water Color Group \nLacey with Micheal \nMondays 1pm-3pm \nOpen to anyone who wants to learn watercolor. Bring your own supplies. \nActivities | Senior Services for South Sound
URL:https://showcasemedialive.com/calendar-event/senior-services-water-color-group/2025-09-22/
CATEGORIES:Arts and Entertainment,senior activities
END:VEVENT
BEGIN:VEVENT
DTSTART;VALUE=DATE:20250920
DTEND;VALUE=DATE:20250921
DTSTAMP:20260421T093326
CREATED:20250614T204532Z
LAST-MODIFIED:20250614T204532Z
UID:10007213-1758326400-1758412799@showcasemedialive.com
SUMMARY:Senior Living: Pierce County Alzheimers Conference
DESCRIPTION:Senior Living: Pierce County Alzheimers Conference \nSeptember 20\, 9am-3pm \nRainier View Christian Church
URL:https://showcasemedialive.com/calendar-event/senior-living-pierce-county-alzheimers-conference/
CATEGORIES:Arts and Entertainment,Community,senior activities
END:VEVENT
BEGIN:VEVENT
DTSTART;VALUE=DATE:20250918
DTEND;VALUE=DATE:20250919
DTSTAMP:20260421T093326
CREATED:20250614T204134Z
LAST-MODIFIED:20250614T204134Z
UID:10007212-1758153600-1758239999@showcasemedialive.com
SUMMARY:Senior Living: Living Well\, Living Long
DESCRIPTION:Senior Living: Living Well\, Living Long \nSeptember 18th\, 8:30am-3pm \nPresbysterian Church
URL:https://showcasemedialive.com/calendar-event/senior-living-living-well-living-long/
CATEGORIES:Community,senior activities,wellness
END:VEVENT
BEGIN:VEVENT
DTSTART;VALUE=DATE:20250915
DTEND;VALUE=DATE:20250916
DTSTAMP:20260421T093326
CREATED:20241030T214159Z
LAST-MODIFIED:20241030T215027Z
UID:10002642-1757894400-1757980799@showcasemedialive.com
SUMMARY:Senior Services Water Color Group
DESCRIPTION:Senior Services Water Color Group \nLacey with Micheal \nMondays 1pm-3pm \nOpen to anyone who wants to learn watercolor. Bring your own supplies. \nActivities | Senior Services for South Sound
URL:https://showcasemedialive.com/calendar-event/senior-services-water-color-group/2025-09-15/
CATEGORIES:Arts and Entertainment,senior activities
END:VEVENT
BEGIN:VEVENT
DTSTART;VALUE=DATE:20250908
DTEND;VALUE=DATE:20250909
DTSTAMP:20260421T093326
CREATED:20241030T214159Z
LAST-MODIFIED:20241030T215027Z
UID:10002641-1757289600-1757375999@showcasemedialive.com
SUMMARY:Senior Services Water Color Group
DESCRIPTION:Senior Services Water Color Group \nLacey with Micheal \nMondays 1pm-3pm \nOpen to anyone who wants to learn watercolor. Bring your own supplies. \nActivities | Senior Services for South Sound
URL:https://showcasemedialive.com/calendar-event/senior-services-water-color-group/2025-09-08/
CATEGORIES:Arts and Entertainment,senior activities
END:VEVENT
BEGIN:VEVENT
DTSTART;VALUE=DATE:20250901
DTEND;VALUE=DATE:20250902
DTSTAMP:20260421T093326
CREATED:20241030T214159Z
LAST-MODIFIED:20241030T215027Z
UID:10002640-1756684800-1756771199@showcasemedialive.com
SUMMARY:Senior Services Water Color Group
DESCRIPTION:Senior Services Water Color Group \nLacey with Micheal \nMondays 1pm-3pm \nOpen to anyone who wants to learn watercolor. Bring your own supplies. \nActivities | Senior Services for South Sound
URL:https://showcasemedialive.com/calendar-event/senior-services-water-color-group/2025-09-01/
CATEGORIES:Arts and Entertainment,senior activities
END:VEVENT
BEGIN:VEVENT
DTSTART;VALUE=DATE:20250825
DTEND;VALUE=DATE:20250826
DTSTAMP:20260421T093326
CREATED:20241030T214159Z
LAST-MODIFIED:20241030T215027Z
UID:10002639-1756080000-1756166399@showcasemedialive.com
SUMMARY:Senior Services Water Color Group
DESCRIPTION:Senior Services Water Color Group \nLacey with Micheal \nMondays 1pm-3pm \nOpen to anyone who wants to learn watercolor. Bring your own supplies. \nActivities | Senior Services for South Sound
URL:https://showcasemedialive.com/calendar-event/senior-services-water-color-group/2025-08-25/
CATEGORIES:Arts and Entertainment,senior activities
END:VEVENT
BEGIN:VEVENT
DTSTART;VALUE=DATE:20250818
DTEND;VALUE=DATE:20250819
DTSTAMP:20260421T093326
CREATED:20241030T214159Z
LAST-MODIFIED:20241030T215027Z
UID:10002638-1755475200-1755561599@showcasemedialive.com
SUMMARY:Senior Services Water Color Group
DESCRIPTION:Senior Services Water Color Group \nLacey with Micheal \nMondays 1pm-3pm \nOpen to anyone who wants to learn watercolor. Bring your own supplies. \nActivities | Senior Services for South Sound
URL:https://showcasemedialive.com/calendar-event/senior-services-water-color-group/2025-08-18/
CATEGORIES:Arts and Entertainment,senior activities
END:VEVENT
BEGIN:VEVENT
DTSTART;VALUE=DATE:20250811
DTEND;VALUE=DATE:20250812
DTSTAMP:20260421T093326
CREATED:20241030T214159Z
LAST-MODIFIED:20241030T215027Z
UID:10002637-1754870400-1754956799@showcasemedialive.com
SUMMARY:Senior Services Water Color Group
DESCRIPTION:Senior Services Water Color Group \nLacey with Micheal \nMondays 1pm-3pm \nOpen to anyone who wants to learn watercolor. Bring your own supplies. \nActivities | Senior Services for South Sound
URL:https://showcasemedialive.com/calendar-event/senior-services-water-color-group/2025-08-11/
CATEGORIES:Arts and Entertainment,senior activities
END:VEVENT
BEGIN:VEVENT
DTSTART;VALUE=DATE:20250804
DTEND;VALUE=DATE:20250805
DTSTAMP:20260421T093326
CREATED:20241030T214159Z
LAST-MODIFIED:20241030T215027Z
UID:10002636-1754265600-1754351999@showcasemedialive.com
SUMMARY:Senior Services Water Color Group
DESCRIPTION:Senior Services Water Color Group \nLacey with Micheal \nMondays 1pm-3pm \nOpen to anyone who wants to learn watercolor. Bring your own supplies. \nActivities | Senior Services for South Sound
URL:https://showcasemedialive.com/calendar-event/senior-services-water-color-group/2025-08-04/
CATEGORIES:Arts and Entertainment,senior activities
END:VEVENT
BEGIN:VEVENT
DTSTART;VALUE=DATE:20250802
DTEND;VALUE=DATE:20250803
DTSTAMP:20260421T093326
CREATED:20250716T220250Z
LAST-MODIFIED:20250716T220442Z
UID:10007631-1754092800-1754179199@showcasemedialive.com
SUMMARY:Cars and Cigars at LeMay Car Museum
DESCRIPTION:Cars and Cigars at LeMay Car Museum\n\n\n\n\n\n\n\n\n\nTurn back the clock on August 2 at Cars & Cigars!\n\n\nGet ready for an unforgettable summer evening—Cars & Cigars: The Seventies Social is set for Saturday\, August 2 from 6–10 PM at LeMay – America’s Car Museum\, and tickets are officially on sale. \nThis annual event is a favorite among those who appreciate fine cigars\, elevated food and drink\, and exceptional automobiles. Each year brings a new theme\, and this summer\, we’re turning back the clock to the 1970s. Expect an evening of laid-back luxury\, classic style\, and nostalgic fun in a setting unlike any other. \nGuests will enjoy: \n\nPremium cigars in a sophisticated outdoor lounge\nHandcrafted cocktails and refreshing beverages\nSavory bites from Stanley & Seafort’s\, Table 47\, and Anthony’s\nLive music inspired by the sounds of the era\nA curated selection of classic cars displayed on the plaza\n\nWhether you come for the cars\, the company\, or the warm summer breeze\, Cars & Cigars offers the perfect blend of style\, flavor\, and atmosphere. It’s the ideal night out to gather with friends\, meet fellow enthusiasts\, and celebrate the finer things—1970s style. \nTickets are limited and expected to sell out. Reserve yours now and prepare for a night of retro sophistication. \n\nReserve Tickets
URL:https://showcasemedialive.com/calendar-event/cars-and-cigars-at-lemay-car-museum/
CATEGORIES:Arts and Entertainment,Cars,Community,senior activities
ATTACH;FMTTYPE=image/png:https://showcasemedialive.com/wp-content/uploads/2025/07/Cars-Cigars-Showcase-Banner.png
END:VEVENT
BEGIN:VEVENT
DTSTART;VALUE=DATE:20250728
DTEND;VALUE=DATE:20250729
DTSTAMP:20260421T093326
CREATED:20241030T214159Z
LAST-MODIFIED:20241030T215027Z
UID:10002635-1753660800-1753747199@showcasemedialive.com
SUMMARY:Senior Services Water Color Group
DESCRIPTION:Senior Services Water Color Group \nLacey with Micheal \nMondays 1pm-3pm \nOpen to anyone who wants to learn watercolor. Bring your own supplies. \nActivities | Senior Services for South Sound
URL:https://showcasemedialive.com/calendar-event/senior-services-water-color-group/2025-07-28/
CATEGORIES:Arts and Entertainment,senior activities
END:VEVENT
BEGIN:VEVENT
DTSTART;VALUE=DATE:20250721
DTEND;VALUE=DATE:20250722
DTSTAMP:20260421T093326
CREATED:20241030T214159Z
LAST-MODIFIED:20241030T215027Z
UID:10002634-1753056000-1753142399@showcasemedialive.com
SUMMARY:Senior Services Water Color Group
DESCRIPTION:Senior Services Water Color Group \nLacey with Micheal \nMondays 1pm-3pm \nOpen to anyone who wants to learn watercolor. Bring your own supplies. \nActivities | Senior Services for South Sound
URL:https://showcasemedialive.com/calendar-event/senior-services-water-color-group/2025-07-21/
CATEGORIES:Arts and Entertainment,senior activities
END:VEVENT
BEGIN:VEVENT
DTSTART;TZID=America/Vancouver:20250719T110000
DTEND;TZID=America/Vancouver:20250719T140000
DTSTAMP:20260421T093326
CREATED:20250709T032858Z
LAST-MODIFIED:20250709T032858Z
UID:10007615-1752922800-1752933600@showcasemedialive.com
SUMMARY:Camp GenCare: Multigenerational Summer Fest
DESCRIPTION:Camp GenCare: Multigenerational Summer Fest \nSaturday\, July 19 | 11:00 AM – 2:00 PM\nCrafts\, outdoor fun\, live music\, and local treats for all ages. \nAll Are Welcome – Family and Friends Come experience how GenCare is\ntransforming the way we live\, age\, and thrive –through Whole Life Living™.\nAttend one or join us for all — it’s up to you! \nCall your nearest GenCare community to RSVP or schedule a private tour.
URL:https://showcasemedialive.com/calendar-event/camp-gencare-multigenerational-summer-fest/
CATEGORIES:Family events,food and drink,senior activities
END:VEVENT
BEGIN:VEVENT
DTSTART;VALUE=DATE:20250718
DTEND;VALUE=DATE:20250719
DTSTAMP:20260421T093326
CREATED:20250614T203808Z
LAST-MODIFIED:20250614T203808Z
UID:10007211-1752796800-1752883199@showcasemedialive.com
SUMMARY:Senior Living Senior Days at Capital LakeFair
DESCRIPTION:Senior Living Senior Days at Capital LakeFair \nJuly 18\, 9am-2pm \nHeritage Park\, Olympia \nCapital Lake Fair
URL:https://showcasemedialive.com/calendar-event/senior-living-senior-days-at-capital-lakefair/
CATEGORIES:Arts and Entertainment,Community,senior activities
END:VEVENT
BEGIN:VEVENT
DTSTART;VALUE=DATE:20250714
DTEND;VALUE=DATE:20250715
DTSTAMP:20260421T093326
CREATED:20241030T214159Z
LAST-MODIFIED:20241030T215027Z
UID:10002633-1752451200-1752537599@showcasemedialive.com
SUMMARY:Senior Services Water Color Group
DESCRIPTION:Senior Services Water Color Group \nLacey with Micheal \nMondays 1pm-3pm \nOpen to anyone who wants to learn watercolor. Bring your own supplies. \nActivities | Senior Services for South Sound
URL:https://showcasemedialive.com/calendar-event/senior-services-water-color-group/2025-07-14/
CATEGORIES:Arts and Entertainment,senior activities
END:VEVENT
BEGIN:VEVENT
DTSTART;VALUE=DATE:20250707
DTEND;VALUE=DATE:20250708
DTSTAMP:20260421T093326
CREATED:20241030T214159Z
LAST-MODIFIED:20241030T215027Z
UID:10002632-1751846400-1751932799@showcasemedialive.com
SUMMARY:Senior Services Water Color Group
DESCRIPTION:Senior Services Water Color Group \nLacey with Micheal \nMondays 1pm-3pm \nOpen to anyone who wants to learn watercolor. Bring your own supplies. \nActivities | Senior Services for South Sound
URL:https://showcasemedialive.com/calendar-event/senior-services-water-color-group/2025-07-07/
CATEGORIES:Arts and Entertainment,senior activities
END:VEVENT
BEGIN:VEVENT
DTSTART;VALUE=DATE:20250630
DTEND;VALUE=DATE:20250701
DTSTAMP:20260421T093326
CREATED:20241030T214159Z
LAST-MODIFIED:20241030T215027Z
UID:10002631-1751241600-1751327999@showcasemedialive.com
SUMMARY:Senior Services Water Color Group
DESCRIPTION:Senior Services Water Color Group \nLacey with Micheal \nMondays 1pm-3pm \nOpen to anyone who wants to learn watercolor. Bring your own supplies. \nActivities | Senior Services for South Sound
URL:https://showcasemedialive.com/calendar-event/senior-services-water-color-group/2025-06-30/
CATEGORIES:Arts and Entertainment,senior activities
END:VEVENT
BEGIN:VEVENT
DTSTART;VALUE=DATE:20250623
DTEND;VALUE=DATE:20250624
DTSTAMP:20260421T093326
CREATED:20241030T214159Z
LAST-MODIFIED:20241030T215027Z
UID:10002630-1750636800-1750723199@showcasemedialive.com
SUMMARY:Senior Services Water Color Group
DESCRIPTION:Senior Services Water Color Group \nLacey with Micheal \nMondays 1pm-3pm \nOpen to anyone who wants to learn watercolor. Bring your own supplies. \nActivities | Senior Services for South Sound
URL:https://showcasemedialive.com/calendar-event/senior-services-water-color-group/2025-06-23/
CATEGORIES:Arts and Entertainment,senior activities
END:VEVENT
BEGIN:VEVENT
DTSTART;VALUE=DATE:20250620
DTEND;VALUE=DATE:20250621
DTSTAMP:20260421T093326
CREATED:20250614T135831Z
LAST-MODIFIED:20250614T135831Z
UID:10007210-1750377600-1750463999@showcasemedialive.com
SUMMARY:Senior Living Alzheimer;s Association Caregivers Summit
DESCRIPTION:Senior Living Alzheimer;s Association Caregivers Summit \nJune 20th\, 10am-4om \nEmerald Downa
URL:https://showcasemedialive.com/calendar-event/senior-living-alzheimers-association-caregivers-summit/
CATEGORIES:Community,senior activities
END:VEVENT
BEGIN:VEVENT
DTSTART;VALUE=DATE:20250616
DTEND;VALUE=DATE:20250617
DTSTAMP:20260421T093326
CREATED:20241030T214159Z
LAST-MODIFIED:20241030T215027Z
UID:10002629-1750032000-1750118399@showcasemedialive.com
SUMMARY:Senior Services Water Color Group
DESCRIPTION:Senior Services Water Color Group \nLacey with Micheal \nMondays 1pm-3pm \nOpen to anyone who wants to learn watercolor. Bring your own supplies. \nActivities | Senior Services for South Sound
URL:https://showcasemedialive.com/calendar-event/senior-services-water-color-group/2025-06-16/
CATEGORIES:Arts and Entertainment,senior activities
END:VEVENT
BEGIN:VEVENT
DTSTART;VALUE=DATE:20250609
DTEND;VALUE=DATE:20250610
DTSTAMP:20260421T093326
CREATED:20241030T214159Z
LAST-MODIFIED:20241030T215027Z
UID:10002628-1749427200-1749513599@showcasemedialive.com
SUMMARY:Senior Services Water Color Group
DESCRIPTION:Senior Services Water Color Group \nLacey with Micheal \nMondays 1pm-3pm \nOpen to anyone who wants to learn watercolor. Bring your own supplies. \nActivities | Senior Services for South Sound
URL:https://showcasemedialive.com/calendar-event/senior-services-water-color-group/2025-06-09/
CATEGORIES:Arts and Entertainment,senior activities
END:VEVENT
BEGIN:VEVENT
DTSTART;VALUE=DATE:20250602
DTEND;VALUE=DATE:20250603
DTSTAMP:20260421T093326
CREATED:20241030T214159Z
LAST-MODIFIED:20241030T215027Z
UID:10002627-1748822400-1748908799@showcasemedialive.com
SUMMARY:Senior Services Water Color Group
DESCRIPTION:Senior Services Water Color Group \nLacey with Micheal \nMondays 1pm-3pm \nOpen to anyone who wants to learn watercolor. Bring your own supplies. \nActivities | Senior Services for South Sound
URL:https://showcasemedialive.com/calendar-event/senior-services-water-color-group/2025-06-02/
CATEGORIES:Arts and Entertainment,senior activities
END:VEVENT
END:VCALENDAR