BEGIN:VCALENDAR
VERSION:2.0
PRODID:-//ShowCase Magazine Washington - ECPv6.15.20//NONSGML v1.0//EN
CALSCALE:GREGORIAN
METHOD:PUBLISH
X-WR-CALNAME:ShowCase Magazine Washington
X-ORIGINAL-URL:https://showcasemedialive.com
X-WR-CALDESC:Events for ShowCase Magazine Washington
REFRESH-INTERVAL;VALUE=DURATION:PT1H
X-Robots-Tag:noindex
X-PUBLISHED-TTL:PT1H
BEGIN:VTIMEZONE
TZID:America/Vancouver
BEGIN:DAYLIGHT
TZOFFSETFROM:-0800
TZOFFSETTO:-0700
TZNAME:PDT
DTSTART:20240310T100000
END:DAYLIGHT
BEGIN:STANDARD
TZOFFSETFROM:-0700
TZOFFSETTO:-0800
TZNAME:PST
DTSTART:20241103T090000
END:STANDARD
BEGIN:DAYLIGHT
TZOFFSETFROM:-0800
TZOFFSETTO:-0700
TZNAME:PDT
DTSTART:20250309T100000
END:DAYLIGHT
BEGIN:STANDARD
TZOFFSETFROM:-0700
TZOFFSETTO:-0800
TZNAME:PST
DTSTART:20251102T090000
END:STANDARD
BEGIN:DAYLIGHT
TZOFFSETFROM:-0800
TZOFFSETTO:-0700
TZNAME:PDT
DTSTART:20260308T100000
END:DAYLIGHT
BEGIN:STANDARD
TZOFFSETFROM:-0700
TZOFFSETTO:-0800
TZNAME:PST
DTSTART:20261101T090000
END:STANDARD
END:VTIMEZONE
BEGIN:VEVENT
DTSTART;VALUE=DATE:20251213
DTEND;VALUE=DATE:20251215
DTSTAMP:20260419T061408
CREATED:20251118T195050Z
LAST-MODIFIED:20251118T195050Z
UID:10010430-1765584000-1765756799@showcasemedialive.com
SUMMARY:Lemay American Car Museum Santa Photos
DESCRIPTION:Lemay American Car Museum Santa Photos \nSanta will be visiting ACM three times this Holiday Season! With photos taking place in the lobby\, no admission ticket is necessary to get this year’s Santa photos! \n\nSaturday\, December 13th from 11am-3pm\nSunday\, December 14th from 11am-3pm\n\nSanta visits are made possible by Tacoma Creates \nEvents at LeMay – America’s Car Museum | Tacoma\, WA
URL:https://showcasemedialive.com/calendar-event/lemay-american-car-museum-santa-photos-2/
CATEGORIES:Community,Family events
ATTACH;FMTTYPE=image/jpeg:https://showcasemedialive.com/wp-content/uploads/2025/11/scaled_1024.jpg
END:VEVENT
END:VCALENDAR