BEGIN:VCALENDAR
VERSION:2.0
PRODID:-//ShowCase Magazine Washington - ECPv6.15.20//NONSGML v1.0//EN
CALSCALE:GREGORIAN
METHOD:PUBLISH
X-ORIGINAL-URL:https://showcasemedialive.com
X-WR-CALDESC:Events for ShowCase Magazine Washington
REFRESH-INTERVAL;VALUE=DURATION:PT1H
X-Robots-Tag:noindex
X-PUBLISHED-TTL:PT1H
BEGIN:VTIMEZONE
TZID:America/Vancouver
BEGIN:DAYLIGHT
TZOFFSETFROM:-0800
TZOFFSETTO:-0700
TZNAME:PDT
DTSTART:20250309T100000
END:DAYLIGHT
BEGIN:STANDARD
TZOFFSETFROM:-0700
TZOFFSETTO:-0800
TZNAME:PST
DTSTART:20251102T090000
END:STANDARD
BEGIN:DAYLIGHT
TZOFFSETFROM:-0800
TZOFFSETTO:-0700
TZNAME:PDT
DTSTART:20260308T100000
END:DAYLIGHT
BEGIN:STANDARD
TZOFFSETFROM:-0700
TZOFFSETTO:-0800
TZNAME:PST
DTSTART:20261101T090000
END:STANDARD
BEGIN:DAYLIGHT
TZOFFSETFROM:-0800
TZOFFSETTO:-0700
TZNAME:PDT
DTSTART:20270314T100000
END:DAYLIGHT
BEGIN:STANDARD
TZOFFSETFROM:-0700
TZOFFSETTO:-0800
TZNAME:PST
DTSTART:20271107T090000
END:STANDARD
END:VTIMEZONE
BEGIN:VEVENT
DTSTART;VALUE=DATE:20260201
DTEND;VALUE=DATE:20260205
DTSTAMP:20260419T120337
CREATED:20260126T195305Z
LAST-MODIFIED:20260126T195305Z
UID:10011018-1769904000-1770249599@showcasemedialive.com
SUMMARY:Auditions: The Mountaintop
DESCRIPTION:Auditions: The Mountaintop \nFebruary 1st – 4th \nTacoma Little Theatre
URL:https://showcasemedialive.com/calendar-event/auditions-the-mountaintop/
CATEGORIES:Arts and Entertainment,Community
END:VEVENT
BEGIN:VEVENT
DTSTART;VALUE=DATE:20260206
DTEND;VALUE=DATE:20260207
DTSTAMP:20260419T120337
CREATED:20250907T133619Z
LAST-MODIFIED:20250907T133619Z
UID:10009652-1770336000-1770422399@showcasemedialive.com
SUMMARY:MATILDA
DESCRIPTION:Tacoma Little Theatre Presents Matilda \n \nDecember 5-28\, 2025 \nInspired by Roald Dahl’s genius\, Matilda The Musical is a Tony Award-winning masterpiece celebrating childhood rebellion\, imagination\, and a girl’s fight for a better life. Matilda\, an extraordinary young girl with intelligence\, wit\, and psychokinetic powers\, is unloved by her cruel parents but admired by her kind teacher\, Miss Honey. However\, the tyrannical headmistress\, Miss Trunchbull\, rules the school with an iron fist—until Matilda’s courage and cleverness inspire her classmates to stand up for themselves. Filled with wit\, whimsy\, and unforgettable music\, this musical is a joyful celebration of empowerment. With a heartwarming message\, Matilda delights audiences of all ages. \nwww.tacomalittletheatre.com\, calling 253-272-2281\,
URL:https://showcasemedialive.com/calendar-event/matilda/2026-02-06/
CATEGORIES:Arts and Entertainment,Community,Family events
END:VEVENT
BEGIN:VEVENT
DTSTART;VALUE=DATE:20260213
DTEND;VALUE=DATE:20260214
DTSTAMP:20260419T120337
CREATED:20250907T133619Z
LAST-MODIFIED:20250907T133619Z
UID:10009653-1770940800-1771027199@showcasemedialive.com
SUMMARY:MATILDA
DESCRIPTION:Tacoma Little Theatre Presents Matilda \n \nDecember 5-28\, 2025 \nInspired by Roald Dahl’s genius\, Matilda The Musical is a Tony Award-winning masterpiece celebrating childhood rebellion\, imagination\, and a girl’s fight for a better life. Matilda\, an extraordinary young girl with intelligence\, wit\, and psychokinetic powers\, is unloved by her cruel parents but admired by her kind teacher\, Miss Honey. However\, the tyrannical headmistress\, Miss Trunchbull\, rules the school with an iron fist—until Matilda’s courage and cleverness inspire her classmates to stand up for themselves. Filled with wit\, whimsy\, and unforgettable music\, this musical is a joyful celebration of empowerment. With a heartwarming message\, Matilda delights audiences of all ages. \nwww.tacomalittletheatre.com\, calling 253-272-2281\,
URL:https://showcasemedialive.com/calendar-event/matilda/2026-02-13/
CATEGORIES:Arts and Entertainment,Community,Family events
END:VEVENT
BEGIN:VEVENT
DTSTART;VALUE=DATE:20260220
DTEND;VALUE=DATE:20260221
DTSTAMP:20260419T120337
CREATED:20250907T133619Z
LAST-MODIFIED:20250907T133619Z
UID:10009654-1771545600-1771631999@showcasemedialive.com
SUMMARY:MATILDA
DESCRIPTION:Tacoma Little Theatre Presents Matilda \n \nDecember 5-28\, 2025 \nInspired by Roald Dahl’s genius\, Matilda The Musical is a Tony Award-winning masterpiece celebrating childhood rebellion\, imagination\, and a girl’s fight for a better life. Matilda\, an extraordinary young girl with intelligence\, wit\, and psychokinetic powers\, is unloved by her cruel parents but admired by her kind teacher\, Miss Honey. However\, the tyrannical headmistress\, Miss Trunchbull\, rules the school with an iron fist—until Matilda’s courage and cleverness inspire her classmates to stand up for themselves. Filled with wit\, whimsy\, and unforgettable music\, this musical is a joyful celebration of empowerment. With a heartwarming message\, Matilda delights audiences of all ages. \nwww.tacomalittletheatre.com\, calling 253-272-2281\,
URL:https://showcasemedialive.com/calendar-event/matilda/2026-02-20/
CATEGORIES:Arts and Entertainment,Community,Family events
END:VEVENT
BEGIN:VEVENT
DTSTART;VALUE=DATE:20260227
DTEND;VALUE=DATE:20260228
DTSTAMP:20260419T120337
CREATED:20250907T133619Z
LAST-MODIFIED:20250907T133619Z
UID:10009655-1772150400-1772236799@showcasemedialive.com
SUMMARY:MATILDA
DESCRIPTION:Tacoma Little Theatre Presents Matilda \n \nDecember 5-28\, 2025 \nInspired by Roald Dahl’s genius\, Matilda The Musical is a Tony Award-winning masterpiece celebrating childhood rebellion\, imagination\, and a girl’s fight for a better life. Matilda\, an extraordinary young girl with intelligence\, wit\, and psychokinetic powers\, is unloved by her cruel parents but admired by her kind teacher\, Miss Honey. However\, the tyrannical headmistress\, Miss Trunchbull\, rules the school with an iron fist—until Matilda’s courage and cleverness inspire her classmates to stand up for themselves. Filled with wit\, whimsy\, and unforgettable music\, this musical is a joyful celebration of empowerment. With a heartwarming message\, Matilda delights audiences of all ages. \nwww.tacomalittletheatre.com\, calling 253-272-2281\,
URL:https://showcasemedialive.com/calendar-event/matilda/2026-02-27/
CATEGORIES:Arts and Entertainment,Community,Family events
END:VEVENT
END:VCALENDAR