BEGIN:VCALENDAR
VERSION:2.0
PRODID:-//ShowCase Magazine Washington - ECPv6.15.20//NONSGML v1.0//EN
CALSCALE:GREGORIAN
METHOD:PUBLISH
X-WR-CALNAME:ShowCase Magazine Washington
X-ORIGINAL-URL:https://showcasemedialive.com
X-WR-CALDESC:Events for ShowCase Magazine Washington
REFRESH-INTERVAL;VALUE=DURATION:PT1H
X-Robots-Tag:noindex
X-PUBLISHED-TTL:PT1H
BEGIN:VTIMEZONE
TZID:America/Vancouver
BEGIN:DAYLIGHT
TZOFFSETFROM:-0800
TZOFFSETTO:-0700
TZNAME:PDT
DTSTART:20250309T100000
END:DAYLIGHT
BEGIN:STANDARD
TZOFFSETFROM:-0700
TZOFFSETTO:-0800
TZNAME:PST
DTSTART:20251102T090000
END:STANDARD
BEGIN:DAYLIGHT
TZOFFSETFROM:-0800
TZOFFSETTO:-0700
TZNAME:PDT
DTSTART:20260308T100000
END:DAYLIGHT
BEGIN:STANDARD
TZOFFSETFROM:-0700
TZOFFSETTO:-0800
TZNAME:PST
DTSTART:20261101T090000
END:STANDARD
BEGIN:DAYLIGHT
TZOFFSETFROM:-0800
TZOFFSETTO:-0700
TZNAME:PDT
DTSTART:20270314T100000
END:DAYLIGHT
BEGIN:STANDARD
TZOFFSETFROM:-0700
TZOFFSETTO:-0800
TZNAME:PST
DTSTART:20271107T090000
END:STANDARD
END:VTIMEZONE
BEGIN:VEVENT
DTSTART;TZID=America/Vancouver:20260328T100000
DTEND;TZID=America/Vancouver:20260328T110000
DTSTAMP:20260419T102156
CREATED:20260320T205923Z
LAST-MODIFIED:20260320T205923Z
UID:10011538-1774692000-1774695600@showcasemedialive.com
SUMMARY:Uptown Easter Egg Hunt
DESCRIPTION:Uptown Gig Harbor Easter Egg Hunt \nMarch 28\, 2026 \n10 AM – 11 AM \nCourtyard between Soma and Chico’s \nCelebrate spring with our annual Easter Egg Hunt! Kids can bring their baskets and hunt for colorful eggs filled with fun surprises. Keep an eye out for the Easter Bunny\, who will be hopping by for photos and smiles. It’s a sweet spring celebration for the whole family! \nUptown Easter Egg Hunt | Gig Harbor Eventsn
URL:https://showcasemedialive.com/calendar-event/uptown-easter-egg-hunt-2/
CATEGORIES:Community,Family events
END:VEVENT
END:VCALENDAR